BEGIN:VCALENDAR
VERSION:2.0
PRODID:-// - ECPv6.15.16//NONSGML v1.0//EN
CALSCALE:GREGORIAN
METHOD:PUBLISH
X-ORIGINAL-URL:https://absolemformations.be
X-WR-CALDESC:Évènements pour 
REFRESH-INTERVAL;VALUE=DURATION:PT1H
X-Robots-Tag:noindex
X-PUBLISHED-TTL:PT1H
BEGIN:VTIMEZONE
TZID:Europe/Paris
BEGIN:DAYLIGHT
TZOFFSETFROM:+0100
TZOFFSETTO:+0200
TZNAME:CEST
DTSTART:20240331T010000
END:DAYLIGHT
BEGIN:STANDARD
TZOFFSETFROM:+0200
TZOFFSETTO:+0100
TZNAME:CET
DTSTART:20241027T010000
END:STANDARD
BEGIN:DAYLIGHT
TZOFFSETFROM:+0100
TZOFFSETTO:+0200
TZNAME:CEST
DTSTART:20250330T010000
END:DAYLIGHT
BEGIN:STANDARD
TZOFFSETFROM:+0200
TZOFFSETTO:+0100
TZNAME:CET
DTSTART:20251026T010000
END:STANDARD
BEGIN:DAYLIGHT
TZOFFSETFROM:+0100
TZOFFSETTO:+0200
TZNAME:CEST
DTSTART:20260329T010000
END:DAYLIGHT
BEGIN:STANDARD
TZOFFSETFROM:+0200
TZOFFSETTO:+0100
TZNAME:CET
DTSTART:20261025T010000
END:STANDARD
END:VTIMEZONE
BEGIN:VEVENT
DTSTART;TZID=Europe/Paris:20250111T090000
DTEND;TZID=Europe/Paris:20250111T170000
DTSTAMP:20260421T133039
CREATED:20240613T100601Z
LAST-MODIFIED:20240613T100603Z
UID:8064-1736586000-1736614800@absolemformations.be
SUMMARY:Syndrome de l'imposteur et confiance en soi
DESCRIPTION:
URL:https://absolemformations.be/event/syndrome-de-limposteur-et-confiance-en-soi/
END:VEVENT
BEGIN:VEVENT
DTSTART;TZID=Europe/Paris:20250124T090000
DTEND;TZID=Europe/Paris:20250124T170000
DTSTAMP:20260421T133039
CREATED:20240613T095609Z
LAST-MODIFIED:20240613T095610Z
UID:8043-1737709200-1737738000@absolemformations.be
SUMMARY:Formation de base janvier 25
DESCRIPTION:Liège et Gosselies
URL:https://absolemformations.be/event/formation-de-base-janvier-25/
END:VEVENT
BEGIN:VEVENT
DTSTART;TZID=Europe/Paris:20250125T090000
DTEND;TZID=Europe/Paris:20250125T170000
DTSTAMP:20260421T133039
CREATED:20240613T095659Z
LAST-MODIFIED:20240613T095702Z
UID:8046-1737795600-1737824400@absolemformations.be
SUMMARY:Formation de base janvier 25
DESCRIPTION:Liège et Gossselies
URL:https://absolemformations.be/event/formation-de-base-janvier-25-2/
END:VEVENT
BEGIN:VEVENT
DTSTART;TZID=Europe/Paris:20250126T090000
DTEND;TZID=Europe/Paris:20250126T170000
DTSTAMP:20260421T133039
CREATED:20240613T095804Z
LAST-MODIFIED:20240613T095806Z
UID:8048-1737882000-1737910800@absolemformations.be
SUMMARY:Formation de base janvier 25
DESCRIPTION:Liège et Gosselies
URL:https://absolemformations.be/event/formation-de-base-janvier-25-3/
END:VEVENT
END:VCALENDAR