BEGIN:VCALENDAR
VERSION:2.0
PRODID:-// - ECPv6.15.16//NONSGML v1.0//EN
CALSCALE:GREGORIAN
METHOD:PUBLISH
X-ORIGINAL-URL:https://absolemformations.be
X-WR-CALDESC:Évènements pour 
REFRESH-INTERVAL;VALUE=DURATION:PT1H
X-Robots-Tag:noindex
X-PUBLISHED-TTL:PT1H
BEGIN:VTIMEZONE
TZID:Europe/Paris
BEGIN:DAYLIGHT
TZOFFSETFROM:+0100
TZOFFSETTO:+0200
TZNAME:CEST
DTSTART:20230326T010000
END:DAYLIGHT
BEGIN:STANDARD
TZOFFSETFROM:+0200
TZOFFSETTO:+0100
TZNAME:CET
DTSTART:20231029T010000
END:STANDARD
BEGIN:DAYLIGHT
TZOFFSETFROM:+0100
TZOFFSETTO:+0200
TZNAME:CEST
DTSTART:20240331T010000
END:DAYLIGHT
BEGIN:STANDARD
TZOFFSETFROM:+0200
TZOFFSETTO:+0100
TZNAME:CET
DTSTART:20241027T010000
END:STANDARD
BEGIN:DAYLIGHT
TZOFFSETFROM:+0100
TZOFFSETTO:+0200
TZNAME:CEST
DTSTART:20250330T010000
END:DAYLIGHT
BEGIN:STANDARD
TZOFFSETFROM:+0200
TZOFFSETTO:+0100
TZNAME:CET
DTSTART:20251026T010000
END:STANDARD
END:VTIMEZONE
BEGIN:VEVENT
DTSTART;TZID=Europe/Paris:20240911T090000
DTEND;TZID=Europe/Paris:20240911T170000
DTSTAMP:20260422T135828
CREATED:20240613T094543Z
LAST-MODIFIED:20240613T094545Z
UID:8027-1726045200-1726074000@absolemformations.be
SUMMARY:De l'autre côté du Miroir - Liège -
DESCRIPTION:
URL:https://absolemformations.be/event/de-lautre-cote-du-miroir-liege/
END:VEVENT
BEGIN:VEVENT
DTSTART;TZID=Europe/Paris:20240913T090000
DTEND;TZID=Europe/Paris:20240915T170000
DTSTAMP:20260422T135828
CREATED:20240218T091436Z
LAST-MODIFIED:20240218T091436Z
UID:7820-1726218000-1726419600@absolemformations.be
SUMMARY:Formation de base Automne
DESCRIPTION:Jours 1 à 3 \nSandra Depasse et Bérangère Lhomme \nLiège et Gosselies
URL:https://absolemformations.be/event/formation-de-base-automne/
END:VEVENT
BEGIN:VEVENT
DTSTART;TZID=Europe/Paris:20240927T090000
DTEND;TZID=Europe/Paris:20240927T170000
DTSTAMP:20260422T135828
CREATED:20240218T092146Z
LAST-MODIFIED:20240218T092146Z
UID:7837-1727427600-1727456400@absolemformations.be
SUMMARY:Dépression et deuils
DESCRIPTION:Sandra Depasse
URL:https://absolemformations.be/event/depression-et-deuils/
LOCATION:Gosselies
END:VEVENT
BEGIN:VEVENT
DTSTART;TZID=Europe/Paris:20240928T090000
DTEND;TZID=Europe/Paris:20240928T170000
DTSTAMP:20260422T135828
CREATED:20240218T092229Z
LAST-MODIFIED:20240218T092229Z
UID:7839-1727514000-1727542800@absolemformations.be
SUMMARY:Burn out\, bore out et brown out
DESCRIPTION:Sandra Depasse
URL:https://absolemformations.be/event/burn-out-bore-out-et-brown-out/
LOCATION:Gosselies
END:VEVENT
END:VCALENDAR