BEGIN:VCALENDAR
VERSION:2.0
PRODID:-// - ECPv6.15.16//NONSGML v1.0//EN
CALSCALE:GREGORIAN
METHOD:PUBLISH
X-ORIGINAL-URL:https://absolemformations.be
X-WR-CALDESC:Évènements pour 
REFRESH-INTERVAL;VALUE=DURATION:PT1H
X-Robots-Tag:noindex
X-PUBLISHED-TTL:PT1H
BEGIN:VTIMEZONE
TZID:Europe/Paris
BEGIN:DAYLIGHT
TZOFFSETFROM:+0100
TZOFFSETTO:+0200
TZNAME:CEST
DTSTART:20230326T010000
END:DAYLIGHT
BEGIN:STANDARD
TZOFFSETFROM:+0200
TZOFFSETTO:+0100
TZNAME:CET
DTSTART:20231029T010000
END:STANDARD
BEGIN:DAYLIGHT
TZOFFSETFROM:+0100
TZOFFSETTO:+0200
TZNAME:CEST
DTSTART:20240331T010000
END:DAYLIGHT
BEGIN:STANDARD
TZOFFSETFROM:+0200
TZOFFSETTO:+0100
TZNAME:CET
DTSTART:20241027T010000
END:STANDARD
BEGIN:DAYLIGHT
TZOFFSETFROM:+0100
TZOFFSETTO:+0200
TZNAME:CEST
DTSTART:20250330T010000
END:DAYLIGHT
BEGIN:STANDARD
TZOFFSETFROM:+0200
TZOFFSETTO:+0100
TZNAME:CET
DTSTART:20251026T010000
END:STANDARD
END:VTIMEZONE
BEGIN:VEVENT
DTSTART;TZID=Europe/Paris:20240516T090000
DTEND;TZID=Europe/Paris:20240516T170000
DTSTAMP:20260424T132617
CREATED:20240218T090505Z
LAST-MODIFIED:20240218T090505Z
UID:7803-1715850000-1715878800@absolemformations.be
SUMMARY:De l'autre côté du miroir
DESCRIPTION:Bérangère Lhomme \nSandra Depasse
URL:https://absolemformations.be/event/de-lautre-cote-du-miroir-3/
LOCATION:Moha\, Belgique
END:VEVENT
BEGIN:VEVENT
DTSTART;TZID=Europe/Paris:20240517T090000
DTEND;TZID=Europe/Paris:20240518T170000
DTSTAMP:20260424T132617
CREATED:20240218T093352Z
LAST-MODIFIED:20240218T093352Z
UID:7861-1715936400-1716051600@absolemformations.be
SUMMARY:Synthèse et intégration
DESCRIPTION:Sandra Depasse
URL:https://absolemformations.be/event/synthese-et-integration/
LOCATION:Gosselies
END:VEVENT
BEGIN:VEVENT
DTSTART;TZID=Europe/Paris:20240518T090000
DTEND;TZID=Europe/Paris:20240519T170000
DTSTAMP:20260424T132617
CREATED:20240218T093652Z
LAST-MODIFIED:20240218T093652Z
UID:7865-1716022800-1716138000@absolemformations.be
SUMMARY:Psychopathologie appliquée
DESCRIPTION:Dr Bibo Slayton
URL:https://absolemformations.be/event/psychopathologie-appliquee-2/
LOCATION:Gosselies
END:VEVENT
BEGIN:VEVENT
DTSTART;TZID=Europe/Paris:20240523T090000
DTEND;TZID=Europe/Paris:20240524T170000
DTSTAMP:20260424T132617
CREATED:20240218T091132Z
LAST-MODIFIED:20240218T091132Z
UID:7814-1716454800-1716570000@absolemformations.be
SUMMARY:Formation de base Printemps
DESCRIPTION:Jours 6 et 7 \nSandra Depasse et Bérangère Lhomme \nGosselies
URL:https://absolemformations.be/event/formation-de-base-printemps-3/
END:VEVENT
BEGIN:VEVENT
DTSTART;TZID=Europe/Paris:20240525T090000
DTEND;TZID=Europe/Paris:20240526T170000
DTSTAMP:20260424T132617
CREATED:20240218T092518Z
LAST-MODIFIED:20240218T092518Z
UID:7845-1716627600-1716742800@absolemformations.be
SUMMARY:Nos ancêtres: travail transgénérationnel
DESCRIPTION:Sandra Depasse
URL:https://absolemformations.be/event/nos-ancetres-travail-transgenerationnel/
LOCATION:Gosselies
END:VEVENT
END:VCALENDAR